Workbook

Sheet Master Data
A1: Index | B1: ID | C1: Eligibility | D1: Question | E1: Answer Choice | F1: Answer | G1: Age | H1: Zip | I1: Housing | J1: Household | K1: Assistance: None of the above | L1: Supermarket | M1: Box Stores (Target, Walmart, etc.) | N1: Wholesale Club (BJ’s, Sam’s Club, etc.) | O1: Food Co-op | P1: Farmers Market | Q1: Specialty Market | R1: Corner Store | S1: Dollar Store | T1: Drug Store | U1: Distance | V1: Challenges: No barriers | W1: Transport Challenges | X1: Fresh Fruit | Y1: Frozen Fruit | Z1: Canned Fruit | AA1: Fresh Veg | AB1: Frozen Veg | AC1: Canned Veg | AD1: Ease to get Fresh Food | AE1: Variety | AF1: Quality | AG1: Overall Experience | AH1: Comments | AI1: Has Comment | AJ1: Neighborhood | AK1: Gender Reporting
A2: 1 | B2: 4 | C2: Yes | G2: 18-24 | H2: 12305 | I2: Rent my home | J2: 1 - 2 | K2: 1 | L2: Often | M2: Often | N2: Never | O2: Never | P2: Sometimes | Q2: Never | R2: Sometimes | S2: Never | T2: Sometimes | U2: 7-10 miles | V2: FALSE | W2: Never | X2: Often | Y2: Sometimes | Z2: Never | AA2: Often | AB2: Often | AC2: Never | AD2: Usually easy | AE2: Good | AF2: Good | AG2: Good | AI2: 0 | AJ2: Downtown/Stockade | AK2: Female
A3: 2 | B3: 5 | C3: Yes | G3: 60-69 | H3: 12308 | I3: Own my home | J3: 1 - 2 | K3: 1 | L3: Often | M3: Sometimes | N3: Sometimes | O3: Never | P3: Never | Q3: Never | R3: Sometimes | S3: Never | T3: Never | U3: 4-6 miles | V3: TRUE | W3: Never | X3: Sometimes | Y3: Sometimes | Z3: Often | AA3: Often | AB3: Often | AC3: Often | AD3: Sometimes easy | AE3: Excellent | AF3: Good | AG3: Good | AI3: 0 | AJ3: Northside | AK3: Female
A4: 3 | B4: 6 | C4: Yes | G4: 60-69 | H4: 12305 | I4: Rent my home | J4: 1 - 2 | K4: 1 | L4: Often | M4: Sometimes | N4: Never | O4: Sometimes | P4: Sometimes | Q4: Sometimes | R4: Never | S4: Never | T4: Never | U4: 1-3 miles | V4: TRUE | W4: Never | X4: Often | Y4: Never | Z4: Never | AA4: Often | AB4: Sometimes | AC4: Never | AD4: Usually easy | AE4: Excellent | AF4: Good | AG4: Excellent | AI4: 0 | AJ4: Downtown/Stockade | AK4: Male
A5: 4 | B5: 7 | C5: Yes | G5: 40-49 | H5: 12309 | I5: Own my home | J5: 1 - 2 | K5: 1 | L5: Often | M5: Never | N5: Never | O5: Sometimes | P5: Often | Q5: Sometimes | R5: Never | S5: Never | T5: Never | U5: 7-10 miles | V5: TRUE | W5: Never | X5: Often | Y5: Sometimes | Z5: Sometimes | AA5: Often | AB5: Never | AC5: Sometimes | AD5: Always easy | AE5: Good | AF5: Good | AG5: Excellent | AI5: 0 | AJ5: Niskayuna | AK5: Male
A6: 5 | B6: 8 | C6: Yes | G6: 30-39 | H6: 12308 | I6: Own my home | J6: 1 - 2 | K6: 1 | L6: Often | M6: Often | N6: Sometimes | O6: Sometimes | P6: Sometimes | Q6: Sometimes | R6: Sometimes | S6: Never | T6: Never | U6: 4-6 miles | V6: TRUE | W6: Never | X6: Often | Y6: Sometimes | Z6: Never | AA6: Often | AB6: Often | AC6: Often | AD6: Always easy | AE6: Excellent | AF6: Excellent | AG6: Good | AI6: 0 | AJ6: Northside | AK6: Female
A7: 6 | B7: 9 | C7: Yes | G7: 60-69 | H7: 12027 | I7: Own my home | J7: 1 - 2 | K7: 1 | L7: Often | M7: Sometimes | N7: Sometimes | O7: Never | P7: Sometimes | Q7: Never | R7: Never | S7: Sometimes | T7: Sometimes | U7: 4-6 miles | V7: TRUE | W7: Never | X7: Often | Y7: Sometimes | Z7: Never | AA7: Often | AB7: Never | AC7: Never | AD7: Sometimes easy | AE7: Okay | AF7: Okay | AG7: Good | AI7: 0 | AJ7: Scotia/Glenville | AK7: Male
A8: 7 | B8: 10 | C8: Yes | G8: 30-39 | H8: 12302 | I8: Rent my home | J8: 3 - 4 | K8: 0 | L8: Often | M8: Often | N8: Sometimes | O8: Never | P8: Sometimes | Q8: Never | R8: Sometimes | S8: Never | T8: Often | U8: 1-3 miles | V8: FALSE | W8: Rarely | X8: Often | Y8: Often | Z8: Never | AA8: Sometimes | AB8: Often | AC8: Never | AD8: Always easy | AE8: Good | AF8: Excellent | AG8: Good | AI8: 0 | AJ8: Scotia/Glenville | AK8: Non-binary
A9: 8 | B9: 11 | C9: Yes | G9: 25-29 | H9: 12302 | I9: Rent my home | J9: 3 - 4 | K9: 0 | L9: Sometimes | M9: Often | N9: Sometimes | O9: Never | P9: Sometimes | Q9: Never | R9: Never | S9: Never | T9: Sometimes | U9: 1-3 miles | V9: FALSE | W9: Never | X9: Sometimes | Y9: Often | Z9: Sometimes | AA9: Sometimes | AB9: Often | AC9: Sometimes | AD9: Sometimes easy | AE9: Okay | AF9: Good | AG9: Good | AH9: I love the Fresh Table of Scotia/ Glenville so much as my family would not qualify for most food pantries and assistance but this one does not have qualifications. I know many people also utilize Buy Nothing Groups to limit food waste while helping others too. And I hope one day apps like “To Good To Go” become more widely used by businesses in Schenectady as it also helps with food waste but also provides people with the chance to get food they normally would not be able to afford. | AI9: 1 | AJ9: Scotia/Glenville | AK9: Transgender
A10: 9 | B10: 12 | C10: Yes | G10: 25-29 | H10: 12303 | I10: Rent my home | J10: 1 - 2 | K10: 1 | L10: Often | M10: Often | N10: Never | O10: Often | P10: Sometimes | Q10: Sometimes | R10: Often | S10: Often | T10: Sometimes | U10: 1-3 miles | V10: TRUE | W10: Sometimes | X10: Sometimes | Y10: Often | Z10: Often | AA10: Never | AB10: Often | AC10: Often | AD10: Always easy | AE10: Good | AF10: Good | AG10: Good | AI10: 0 | AJ10: Mont Pleasant | AK10: Male
A11: 10 | B11: 13 | C11: Yes | G11: 40-49 | H11: 12304 | I11: Rent my home | J11: 5 - 6 | K11: 0 | L11: Often | M11: Often | N11: Sometimes | O11: Never | P11: Sometimes | Q11: Never | R11: Never | S11: Sometimes | T11: Never | U11: Less than 1 mile | V11: FALSE | W11: Always | X11: Often | Y11: Sometimes | Z11: Sometimes | AA11: Often | AB11: Often | AC11: Never | AD11: Usually easy | AE11: Good | AF11: Okay | AG11: Very poor | AH11: Transportation and cost are the main struggles for us. We never have enough food to get us through the month. SNAP benefits are only $533 for 5 people. So so hard to eat in general no less eating healthy. | AI11: 1 | AJ11: Woodlawn | AK11: Female
A12: 11 | B12: 14 | C12: Yes | G12: 40-49 | H12: 12309 | I12: Rent my home | J12: 3 - 4 | K12: 0 | L12: Often | M12: Sometimes | N12: Never | O12: Never | P12: Sometimes | Q12: Never | R12: Sometimes | S12: Sometimes | T12: Never | U12: 4-6 miles | V12: FALSE | W12: Sometimes | X12: Often | Y12: Sometimes | Z12: Sometimes | AA12: Often | AB12: Often | AC12: Sometimes | AD12: Rarely easy | AE12: Okay | AF12: Good | AG12: Good | AH12: We thank the food pantries in our area they are a life saver when in need . | AI12: 1 | AJ12: Niskayuna | AK12: Female
A13: 12 | B13: 15 | C13: Yes | G13: 18-24 | H13: 12305 | I13: Rent my home | J13: 1 - 2 | K13: 1 | L13: Often | M13: Sometimes | N13: Never | O13: Never | P13: Sometimes | Q13: Never | R13: Often | S13: Never | T13: Sometimes | U13: 7-10 miles | V13: TRUE | W13: Never | X13: Often | Y13: Sometimes | Z13: Sometimes | AA13: Often | AB13: Sometimes | AC13: Never | AD13: Usually easy | AE13: Good | AF13: Good | AG13: Good | AI13: 0 | AJ13: Downtown/Stockade | AK13: Male
A14: 13 | B14: 16 | C14: Yes | G14: 30-39 | H14: 12308 | I14: Own my home | J14: 1 - 2 | K14: 1 | L14: Sometimes | M14: Sometimes | N14: Sometimes | O14: Sometimes | P14: Sometimes | Q14: Sometimes | R14: Never | S14: Sometimes | T14: Sometimes | U14: 4-6 miles | V14: FALSE | W14: Sometimes | X14: Often | Y14: Sometimes | Z14: Never | AA14: Often | AB14: Often | AC14: Sometimes | AD14: Sometimes easy | AE14: Okay | AF14: Okay | AG14: Poor | AH14: Food is so insanely expensive, if it wasn't for having a combined income with my partner, I would still be restricted to the food pantries on a disability/SSDI income. | AI14: 1 | AJ14: Northside | AK14: Transgender
A15: 14 | B15: 17 | C15: Yes | G15: 40-49 | H15: 12305 | I15: Own my home | J15: 1 - 2 | K15: 1 | L15: Often | M15: Never | N15: Never | O15: Sometimes | P15: Sometimes | Q15: Sometimes | R15: Never | S15: Never | T15: Never | U15: Less than 1 mile | V15: TRUE | W15: Never | X15: Often | Y15: Sometimes | Z15: Sometimes | AA15: Often | AB15: Sometimes | AC15: Sometimes | AD15: Usually easy | AE15: Excellent | AF15: Excellent | AG15: Excellent | AH15: I work in Troy at Capital Roots and use Capital Roots' Good Food Market as my main market- and supplement with Greenmarket and smaller in downtown/little Italy Schenectady. So these survey responses may be outliers for Schdy | AI15: 1 | AJ15: Downtown/Stockade | AK15: Male
A16: 15 | B16: 18 | C16: Yes | G16: 25-29 | H16: 12303 | I16: Own my home | J16: 1 - 2 | K16: 1 | L16: Often | M16: Often | N16: Sometimes | O16: Sometimes | P16: Often | Q16: Never | R16: Sometimes | S16: Sometimes | T16: Sometimes | U16: Less than 1 mile | V16: TRUE | W16: Never | X16: Often | Y16: Sometimes | Z16: Never | AA16: Often | AB16: Sometimes | AC16: Never | AD16: Always easy | AE16: Excellent | AF16: Good | AG16: Excellent | AI16: 0 | AJ16: Mont Pleasant | AK16: Female
A17: 16 | B17: 19 | C17: Yes | G17: 30-39 | H17: 12308 | I17: Own my home | J17: 3 - 4 | K17: 1 | L17: Often | M17: Sometimes | N17: Never | O17: Never | P17: Sometimes | Q17: Never | R17: Never | S17: Never | T17: Never | U17: Less than 1 mile | V17: TRUE | W17: Never | X17: Often | Y17: Never | Z17: Never | AA17: Often | AB17: Often | AC17: Sometimes | AD17: Always easy | AE17: Excellent | AF17: Excellent | AG17: Excellent | AI17: 0 | AJ17: Northside | AK17: Male
A18: 17 | B18: 20 | C18: Yes | G18: 40-49 | H18: 12306 | I18: Own my home | J18: 3 - 4 | K18: 0 | L18: Often | M18: Often | N18: Often | O18: Sometimes | P18: Sometimes | Q18: Never | R18: Never | S18: Never | T18: Sometimes | U18: 1-3 miles | V18: FALSE | W18: Rarely | X18: Often | Y18: Often | Z18: Never | AA18: Often | AB18: Often | AC18: Never | AD18: Sometimes easy | AE18: Okay | AF18: Good | AG18: Good | AI18: 0 | AJ18: Rotterdam/Bellevue | AK18: Female
A19: 18 | B19: 21 | C19: Yes | G19: 50-59 | H19: 12302 | I19: Own my home | J19: 3 - 4 | K19: 1 | L19: Often | M19: Sometimes | N19: Sometimes | O19: Sometimes | P19: Sometimes | Q19: Sometimes | R19: Never | S19: Never | T19: Never | U19: 4-6 miles | V19: FALSE | W19: Sometimes | X19: Often | Y19: Sometimes | Z19: Never | AA19: Often | AB19: Often | AC19: Sometimes | AD19: Always easy | AE19: Good | AF19: Good | AG19: Good | AI19: 0 | AJ19: Scotia/Glenville | AK19: Female
A20: 19 | B20: 22 | C20: Yes | G20: 30-39 | H20: 12302 | I20: Rent my home | J20: 1 - 2 | K20: 0 | L20: Often | M20: Never | N20: Never | O20: Never | P20: Never | Q20: Never | R20: Never | S20: Never | T20: Never | U20: 1-3 miles | V20: FALSE | W20: Sometimes | X20: Never | Y20: Never | Z20: Sometimes | AA20: Never | AB20: Often | AC20: Sometimes | AD20: Rarely easy | AE20: Good | AF20: Good | AG20: Good | AI20: 0 | AJ20: Scotia/Glenville | AK20: Prefer not to say
A21: 20 | B21: 23 | C21: Yes | G21: 60-69 | H21: 12306 | I21: Rent my home | J21: 3 - 4 | K21: 1 | L21: Often | M21: Often | N21: Sometimes | O21: Never | P21: Sometimes | Q21: Never | R21: Sometimes | S21: Sometimes | T21: Sometimes | U21: 7-10 miles | V21: FALSE | W21: Never | X21: Often | Y21: Often | Z21: Sometimes | AA21: Often | AB21: Often | AC21: Sometimes | AD21: Sometimes easy | AE21: Good | AF21: Good | AG21: Good | AI21: 0 | AJ21: Rotterdam/Bellevue | AK21: Female
A22: 21 | B22: 24 | C22: Yes | G22: 60-69 | H22: 12309 | I22: Own my home | J22: 3 - 4 | K22: 1 | L22: Often | M22: Sometimes | N22: Never | O22: Sometimes | P22: Sometimes | Q22: Sometimes | R22: Sometimes | S22: Sometimes | T22: Sometimes | U22: 1-3 miles | V22: TRUE | W22: Never | X22: Often | Y22: Sometimes | Z22: Never | AA22: Often | AB22: Sometimes | AC22: Never | AD22: Always easy | AE22: Excellent | AF22: Good | AG22: Excellent | AI22: 0 | AJ22: Niskayuna | AK22: Male
A23: 22 | B23: 25 | C23: Yes | G23: 50-59 | H23: 12309 | I23: Own my home | J23: 3 - 4 | K23: 1 | L23: Often | M23: Never | N23: Never | O23: Sometimes | P23: Sometimes | Q23: Sometimes | R23: Never | S23: Never | T23: Sometimes | U23: 1-3 miles | V23: TRUE | W23: Never | X23: Often | Y23: Sometimes | Z23: Never | AA23: Often | AB23: Sometimes | AC23: Never | AD23: Always easy | AE23: Excellent | AF23: Excellent | AG23: Excellent | AI23: 0 | AJ23: Niskayuna | AK23: Female
A24: 23 | B24: 26 | C24: Yes | G24: 50-59 | H24: 12306 | I24: Own my home | J24: 1 - 2 | K24: 1 | L24: Often | M24: Sometimes | N24: Never | O24: Sometimes | P24: Sometimes | Q24: Sometimes | R24: Sometimes | S24: Sometimes | T24: Sometimes | U24: Less than 1 mile | V24: TRUE | W24: Never | X24: Sometimes | Y24: Sometimes | Z24: Sometimes | AA24: Sometimes | AB24: Sometimes | AC24: Sometimes | AD24: Usually easy | AE24: Good | AF24: Good | AG24: Good | AI24: 0 | AJ24: Rotterdam/Bellevue | AK24: Female
A25: 24 | B25: 27 | C25: Yes | G25: 70-79 | H25: 12309 | I25: Own my home | J25: 1 - 2 | K25: 1 | L25: Often | M25: Sometimes | N25: Never | O25: Sometimes | P25: Sometimes | Q25: Never | R25: Sometimes | S25: Sometimes | T25: Sometimes | U25: 1-3 miles | V25: TRUE | W25: Never | X25: Often | Y25: Never | Z25: Never | AA25: Often | AB25: Sometimes | AC25: Sometimes | AD25: Usually easy | AE25: Excellent | AF25: Good | AG25: Excellent | AH25: As a volunteer at pantries, I am extrememly fortunate that I have access to food | AI25: 1 | AJ25: Niskayuna | AK25: Male
A26: 25 | B26: 28 | C26: Yes | G26: 60-69 | H26: 12303 | I26: Rent my home | J26: 3 - 4 | K26: 0 | L26: Often | M26: Sometimes | N26: Never | O26: Never | P26: Never | Q26: Never | R26: Sometimes | S26: Sometimes | T26: Sometimes | U26: 1-3 miles | V26: FALSE | W26: Never | X26: Often | Y26: Sometimes | Z26: Sometimes | AA26: Sometimes | AB26: Never | AC26: Sometimes | AD26: Usually easy | AE26: Okay | AF26: Good | AG26: Okay | AH26: my disabled son has food issues he gets medicare advantage, since it is hard for me to get to the store we order on line, they do not use the delivery service (so hard to get fresh) the amounts are large quanity not the best selection) | AI26: 1 | AJ26: Mont Pleasant | AK26: Female
A27: 26 | B27: 29 | C27: Yes | G27: 40-49 | H27: 12305 | I27: Rent my home | J27: 1 - 2 | K27: 1 | L27: Often | M27: Sometimes | N27: Never | O27: Never | P27: Sometimes | Q27: Sometimes | R27: Never | S27: Sometimes | T27: Often | U27: 4-6 miles | V27: FALSE | W27: Rarely | X27: Often | Y27: Never | Z27: Never | AA27: Often | AB27: Sometimes | AC27: Sometimes | AD27: Always easy | AE27: Good | AF27: Good | AG27: Good | AI27: 0 | AJ27: Downtown/Stockade | AK27: Female
A28: 27 | B28: 30 | C28: Yes | G28: 50-59 | H28: 12306 | I28: Staying with friends/family temporarily | J28: 1 - 2 | K28: 1 | L28: Often | M28: Often | N28: Sometimes | O28: Never | P28: Sometimes | Q28: Never | R28: Sometimes | S28: Sometimes | T28: Never | U28: 1-3 miles | V28: TRUE | W28: Never | X28: Often | Y28: Never | Z28: Sometimes | AA28: Often | AB28: Often | AC28: Often | AD28: Usually easy | AE28: Good | AF28: Good | AG28: Good | AI28: 0 | AJ28: Rotterdam/Bellevue | AK28: Female
A29: 28 | B29: 31 | C29: Yes | G29: 40-49 | H29: 12309 | I29: Own my home | J29: 1 - 2 | K29: 1 | L29: Sometimes | M29: Sometimes | N29: Never | O29: Never | P29: Never | Q29: Never | R29: Never | S29: Never | T29: Sometimes | U29: Less than 1 mile | V29: TRUE | W29: Never | X29: Often | Y29: Sometimes | Z29: Never | AA29: Often | AB29: Sometimes | AC29: Sometimes | AD29: Always easy | AE29: Excellent | AF29: Excellent | AG29: Excellent | AH29: I do Misfits Market box delivery of "food waste"/misshapen vegetables to my door every other week. It is super convenient. Good survey! | AI29: 1 | AJ29: Niskayuna | AK29: Female
A30: 29 | B30: 32 | C30: Yes | G30: 40-49 | H30: 12305 | I30: Rent my home | J30: 1 - 2 | K30: 0 | L30: Often | M30: Sometimes | N30: Never | O30: Sometimes | P30: Sometimes | Q30: Sometimes | R30: Sometimes | S30: Never | T30: Sometimes | U30: 4-6 miles | V30: FALSE | W30: Sometimes | X30: Often | Y30: Sometimes | Z30: Never | AA30: Often | AB30: Sometimes | AC30: Never | AD30: Usually easy | AE30: Good | AF30: Good | AG30: Okay | AJ30: Downtown/Stockade | AK30: Female
A31: 30 | B31: 33 | C31: Yes | G31: 40-49 | H31: 12306 | I31: Own my home | J31: 3 - 4 | K31: 1 | L31: Often | M31: Sometimes | N31: Often | O31: Never | P31: Sometimes | Q31: Never | R31: Sometimes | S31: Never | T31: Sometimes | U31: 1-3 miles | V31: TRUE | W31: Never | X31: Often | Y31: Sometimes | Z31: Never | AA31: Often | AB31: Sometimes | AC31: Often | AD31: Usually easy | AE31: Excellent | AF31: Good | AG31: Excellent | AI31: 0 | AJ31: Rotterdam/Bellevue | AK31: Male
A32: 31 | B32: 34 | C32: Yes | G32: 30-39 | H32: 12304 | I32: Staying with friends/family temporarily | J32: 1 - 2 | K32: 0 | L32: Never | M32: Often | N32: Never | O32: Never | P32: Never | Q32: Never | R32: Never | S32: Never | T32: Sometimes | U32: 4-6 miles | V32: FALSE | W32: Sometimes | X32: Often | Y32: Sometimes | Z32: Never | AA32: Sometimes | AB32: Often | AC32: Sometimes | AD32: Rarely easy | AE32: Poor | AF32: Okay | AG32: Okay | AI32: 0 | AJ32: Woodlawn | AK32: Female
A33: 32 | B33: 35 | C33: Yes | G33: 50-59 | H33: 12306 | I33: Own my home | J33: 3 - 4 | K33: 0 | L33: Often | M33: Sometimes | N33: Sometimes | O33: Often | P33: Often | Q33: Sometimes | R33: Never | S33: Often | T33: Sometimes | U33: 4-6 miles | V33: FALSE | W33: Never | X33: Often | Y33: Sometimes | Z33: Never | AA33: Often | AB33: Sometimes | AC33: Never | AD33: Usually easy | AE33: Good | AF33: Excellent | AG33: Excellent | AH33: The green market is one of the best parts of living in Schenectady. Please do whatever you can to save it. | AI33: 1 | AJ33: Rotterdam/Bellevue | AK33: Female
A34: 33 | B34: 36 | C34: Yes | G34: 50-59 | H34: 12304 | I34: Rent from relatives | J34: 3 - 4 | K34: 0 | L34: Sometimes | M34: Sometimes | N34: Sometimes | O34: Never | P34: Sometimes | Q34: Sometimes | R34: Sometimes | S34: Sometimes | T34: Sometimes | U34: 1-3 miles | V34: FALSE | W34: Often | X34: Often | Y34: Often | Z34: Sometimes | AA34: Often | AB34: Often | AC34: Sometimes | AD34: Rarely easy | AE34: Poor | AF34: Poor | AG34: Poor | AH34: We are receiving less and less fresh produce everywhere, IF any at all - especially at the Sycamore Collaborative in the local area. This started happening PRIOR to the current federal administration. Many foods are being thrown away instead of shared when they have shelf life viability. The reasons for less food is being stated as: they are sharing with OTHER agencies rather than taking care of their customers and clients who go to their location. So, politics seems more important than the people, until it's time to ask for donations and money. Donations are also going overseas instead of staying locally for the community. People are being forced to go their particular business partners to get needs met. It has become both a political AND a numbers game. The people are just pawns and not being treated fairly. The trucks don't even give fresh produce anymore, only canned items. IF constituents state any of this to staffers they are treated a bit harshly in terms of gaslighting and shamed for needing help. Apparently you are not allowed to speak up if broke or poor. You have to take what you get like a stray. It is not fair and it can be inhumane. No human being should be yelled or spoken to condescendingly due to circumstances out of their control. Nobody wants to go to pantries or ask for help, especially if they are made to feel as less than a whole person or bring made to feel useless. Seniors and especially females should not be shamed into silence when it comes to needs. Volunteers need to be retrained locally. And taught that just because they currently have means and connections doesn't mean that employees are of an elevated status as human beings, over the people they are supposed to help. And perhaps a side talk about the gossiping of people that require some form of help. Poverty can happen to anyone, for a myriad of reasons. People should be afforded some dignity and respect. It seems that many people in the food industry are coming across as altruistic only when it comes to public scrutiny, or being spotlighted in media of their services when they are asking for money. | AI34: 1 | AJ34: Woodlawn | AK34: Female
A35: 34 | B35: 37 | C35: Yes | G35: 40-49 | H35: 12305 | I35: Other | J35: 3 - 4 | K35: 0 | L35: Often | M35: Often | N35: Often | O35: Never | P35: Often | Q35: Often | R35: Sometimes | S35: Often | T35: Often | U35: 4-6 miles | V35: FALSE | W35: Often | X35: Often | Y35: Sometimes | Z35: Sometimes | AA35: Often | AB35: Often | AC35: Sometimes | AD35: Sometimes easy | AE35: Okay | AF35: Okay | AG35: Okay | AH35: Prices should be monitored. Companies and businesses are raising prices in competition with each other and forgetting about the customers who can barely afford to eat properly. Money has become more important than the people. Political opponents show up for photo opportunities for their own agendas. Constituents should be able to speak publicly about what is happening in our local communities. Constituents should not feel singled out for any punitive measures should they speak up about any issues. | AI35: 1 | AJ35: Downtown/Stockade | AK35: Female
A36: 35 | B36: 38 | C36: Yes | G36: 40-49 | H36: 12303 | I36: Own my home | J36: 1 - 2 | K36: 1 | L36: Often | M36: Sometimes | N36: Sometimes | O36: Never | P36: Often | Q36: Never | R36: Sometimes | S36: Never | T36: Never | U36: 1-3 miles | V36: FALSE | W36: Never | X36: Often | Y36: Sometimes | Z36: Sometimes | AA36: Often | AB36: Often | AC36: Often | AD36: Usually easy | AE36: Excellent | AF36: Good | AG36: Excellent | AI36: 0 | AJ36: Mont Pleasant | AK36: Female
A37: 36 | B37: 39 | C37: Yes | G37: 70-79 | H37: 12306 | I37: Rent my home | J37: 1 - 2 | K37: 1 | L37: Sometimes | M37: Sometimes | N37: Often | O37: Never | P37: Sometimes | Q37: Never | R37: Never | S37: Never | T37: Sometimes | U37: 1-3 miles | V37: TRUE | W37: Never | X37: Often | Y37: Often | Z37: Often | AA37: Sometimes | AB37: Sometimes | AC37: Often | AD37: Usually easy | AE37: Good | AF37: Good | AG37: Good | AI37: 0 | AJ37: Rotterdam/Bellevue | AK37: Male
A38: 37 | B38: 41 | C38: Yes | G38: 40-49 | H38: 12309 | I38: Own my home | J38: 3 - 4 | K38: 1 | L38: Often | M38: Sometimes | N38: Never | O38: Sometimes | P38: Sometimes | Q38: Never | R38: Sometimes | S38: Sometimes | T38: Sometimes | U38: Less than 1 mile | V38: FALSE | W38: Rarely | X38: Sometimes | Y38: Never | Z38: Never | AA38: Often | AB38: Sometimes | AC38: Sometimes | AD38: Always easy | AE38: Excellent | AF38: Good | AG38: Excellent | AI38: 0 | AJ38: Niskayuna | AK38: Male
A39: 38 | B39: 42 | C39: Yes | G39: 50-59 | H39: 12308 | I39: Rent my home | J39: 3 - 4 | K39: 1 | L39: Often | M39: Sometimes | N39: Never | O39: Sometimes | P39: Sometimes | Q39: Never | R39: Sometimes | S39: Sometimes | T39: Sometimes | U39: 1-3 miles | V39: TRUE | W39: Never | X39: Often | Y39: Sometimes | Z39: Never | AA39: Often | AB39: Often | AC39: Sometimes | AD39: Usually easy | AE39: Good | AF39: Good | AG39: Good | AI39: 0 | AJ39: Northside | AK39: Female
A40: 39 | B40: 43 | C40: Yes | G40: 25-29 | H40: 12305 | I40: Rent my home | J40: 1 - 2 | K40: 1 | L40: Sometimes | M40: Sometimes | N40: Never | O40: Never | P40: Sometimes | Q40: Never | R40: Sometimes | S40: Never | T40: Never | U40: 1-3 miles | V40: FALSE | W40: Never | X40: Sometimes | Y40: Often | Z40: Sometimes | AA40: Sometimes | AB40: Often | AC40: Never | AD40: Usually easy | AE40: Good | AF40: Good | AG40: Good | AI40: 0 | AJ40: Downtown/Stockade | AK40: Female
...

Sheet 1 Read Me
A1: SEATS Food Access Survey Annex
A2: Guide to the supporting survey tables. All analytical tabs filter to Eligibility = Yes.
A4: Survey Scope | B4: Total Count | C4: Total Percent | D4: How to use these tabs
A5: Total records | B5: =COUNTA('Master Data'!B2:B961) -> 960 | D5: Start with Respondent Profile and Geography to understand who participated. Then use Shopping Sources, Access & Barriers, Food Availability, and Experience Ratings for report findings. Community Comments contains verbatim eligible responses. Data Quality Notes documents data limitations.
A6: Eligible responses | B6: =COUNTIF('Master Data'!C2:C961,"Yes") -> 943
A7: Reporting Assistance (K = 0) | B7: =COUNTIFS('Master Data'!C2:C961,"Yes",'Master Data'!K2:K961,0) -> 592 | C7: =B7/B6 -> 0.62778367
A11: Interpretation note: percentages describe survey respondents and should not be presented as population prevalence.

Sheet 2 Respondent Profile
A1: SEATS Respondent Profile
A2: Age, household size, housing, and gender among eligible respondents.
A4: Age | B4: Total Count | C4: Total Percent | D4: Reporting Assistance Count | E4: Reporting Assistance Percent | G4: Household Size | H4: Total Count | I4: Total Percent | J4: Reporting Assistance Count | K4: Reporting Assistance Percent
A5: 18-24 | B5: =COUNTIFS('Master Data'!$C$2:$C$961,"Yes",'Master Data'!$G$2:$G$961,A5) -> 58 | C5: =B5/COUNTIF('Master Data'!$C$2:$C$961,"Yes") -> 0.061505832 | D5: =COUNTIFS('Master Data'!$C$2:$C$961,"Yes",'Master Data'!$K$2:$K$961,0,'Master Data'!$G$2:$G$961,A5) -> 33 | E5: =D5/COUNTIF('Master Data'!$C$2:$C$961,"Yes") -> 0.034994698 | G5: 1 - 2 | H5: =COUNTIFS('Master Data'!$C$2:$C$961,"Yes",'Master Data'!$J$2:$J$961,G5) -> 515 | I5: =H5/COUNTIF('Master Data'!$C$2:$C$961,"Yes") -> 0.54612937 | J5: =COUNTIFS('Master Data'!$C$2:$C$961,"Yes",'Master Data'!$K$2:$K$961,0,'Master Data'!$J$2:$J$961,G5) -> 318 | K5: =J5/COUNTIF('Master Data'!$C$2:$C$961,"Yes") -> 0.33722163
A6: 25-29 | B6: =COUNTIFS('Master Data'!$C$2:$C$961,"Yes",'Master Data'!$G$2:$G$961,A6) -> 63 | C6: =B6/COUNTIF('Master Data'!$C$2:$C$961,"Yes") -> 0.066808059 | D6: =COUNTIFS('Master Data'!$C$2:$C$961,"Yes",'Master Data'!$K$2:$K$961,0,'Master Data'!$G$2:$G$961,A6) -> 35 | E6: =D6/COUNTIF('Master Data'!$C$2:$C$961,"Yes") -> 0.037115589 | G6: 3 - 4 | H6: =COUNTIFS('Master Data'!$C$2:$C$961,"Yes",'Master Data'!$J$2:$J$961,G6) -> 276 | I6: =H6/COUNTIF('Master Data'!$C$2:$C$961,"Yes") -> 0.29268293 | J6: =COUNTIFS('Master Data'!$C$2:$C$961,"Yes",'Master Data'!$K$2:$K$961,0,'Master Data'!$J$2:$J$961,G6) -> 165 | K6: =J6/COUNTIF('Master Data'!$C$2:$C$961,"Yes") -> 0.17497349
A7: 30-39 | B7: =COUNTIFS('Master Data'!$C$2:$C$961,"Yes",'Master Data'!$G$2:$G$961,A7) -> 181 | C7: =B7/COUNTIF('Master Data'!$C$2:$C$961,"Yes") -> 0.19194062 | D7: =COUNTIFS('Master Data'!$C$2:$C$961,"Yes",'Master Data'!$K$2:$K$961,0,'Master Data'!$G$2:$G$961,A7) -> 116 | E7: =D7/COUNTIF('Master Data'!$C$2:$C$961,"Yes") -> 0.12301166 | G7: 5 - 6 | H7: =COUNTIFS('Master Data'!$C$2:$C$961,"Yes",'Master Data'!$J$2:$J$961,G7) -> 92 | I7: =H7/COUNTIF('Master Data'!$C$2:$C$961,"Yes") -> 0.097560976 | J7: =COUNTIFS('Master Data'!$C$2:$C$961,"Yes",'Master Data'!$K$2:$K$961,0,'Master Data'!$J$2:$J$961,G7) -> 62 | K7: =J7/COUNTIF('Master Data'!$C$2:$C$961,"Yes") -> 0.065747614
A8: 40-49 | B8: =COUNTIFS('Master Data'!$C$2:$C$961,"Yes",'Master Data'!$G$2:$G$961,A8) -> 173 | C8: =B8/COUNTIF('Master Data'!$C$2:$C$961,"Yes") -> 0.18345705 | D8: =COUNTIFS('Master Data'!$C$2:$C$961,"Yes",'Master Data'!$K$2:$K$961,0,'Master Data'!$G$2:$G$961,A8) -> 103 | E8: =D8/COUNTIF('Master Data'!$C$2:$C$961,"Yes") -> 0.10922587 | G8: 7+ | H8: =COUNTIFS('Master Data'!$C$2:$C$961,"Yes",'Master Data'!$J$2:$J$961,G8) -> 30 | I8: =H8/COUNTIF('Master Data'!$C$2:$C$961,"Yes") -> 0.031813362 | J8: =COUNTIFS('Master Data'!$C$2:$C$961,"Yes",'Master Data'!$K$2:$K$961,0,'Master Data'!$J$2:$J$961,G8) -> 27 | K8: =J8/COUNTIF('Master Data'!$C$2:$C$961,"Yes") -> 0.028632025
A9: 50-59 | B9: =COUNTIFS('Master Data'!$C$2:$C$961,"Yes",'Master Data'!$G$2:$G$961,A9) -> 167 | C9: =B9/COUNTIF('Master Data'!$C$2:$C$961,"Yes") -> 0.17709438 | D9: =COUNTIFS('Master Data'!$C$2:$C$961,"Yes",'Master Data'!$K$2:$K$961,0,'Master Data'!$G$2:$G$961,A9) -> 107 | E9: =D9/COUNTIF('Master Data'!$C$2:$C$961,"Yes") -> 0.11346766 | G9: Does not apply to me | H9: =COUNTIFS('Master Data'!$C$2:$C$961,"Yes",'Master Data'!$J$2:$J$961,G9) -> 30 | I9: =H9/COUNTIF('Master Data'!$C$2:$C$961,"Yes") -> 0.031813362 | J9: =COUNTIFS('Master Data'!$C$2:$C$961,"Yes",'Master Data'!$K$2:$K$961,0,'Master Data'!$J$2:$J$961,G9) -> 20 | K9: =J9/COUNTIF('Master Data'!$C$2:$C$961,"Yes") -> 0.021208908
A10: 60-69 | B10: =COUNTIFS('Master Data'!$C$2:$C$961,"Yes",'Master Data'!$G$2:$G$961,A10) -> 187 | C10: =B10/COUNTIF('Master Data'!$C$2:$C$961,"Yes") -> 0.19830329 | D10: =COUNTIFS('Master Data'!$C$2:$C$961,"Yes",'Master Data'!$K$2:$K$961,0,'Master Data'!$G$2:$G$961,A10) -> 132 | E10: =D10/COUNTIF('Master Data'!$C$2:$C$961,"Yes") -> 0.13997879
A11: 70-79 | B11: =COUNTIFS('Master Data'!$C$2:$C$961,"Yes",'Master Data'!$G$2:$G$961,A11) -> 92 | C11: =B11/COUNTIF('Master Data'!$C$2:$C$961,"Yes") -> 0.097560976 | D11: =COUNTIFS('Master Data'!$C$2:$C$961,"Yes",'Master Data'!$K$2:$K$961,0,'Master Data'!$G$2:$G$961,A11) -> 52 | E11: =D11/COUNTIF('Master Data'!$C$2:$C$961,"Yes") -> 0.05514316
A12: 80 or older | B12: =COUNTIFS('Master Data'!$C$2:$C$961,"Yes",'Master Data'!$G$2:$G$961,A12) -> 22 | C12: =B12/COUNTIF('Master Data'!$C$2:$C$961,"Yes") -> 0.023329799 | D12: =COUNTIFS('Master Data'!$C$2:$C$961,"Yes",'Master Data'!$K$2:$K$961,0,'Master Data'!$G$2:$G$961,A12) -> 14 | E12: =D12/COUNTIF('Master Data'!$C$2:$C$961,"Yes") -> 0.014846235
A16: Housing | B16: Total Count | C16: Total Percent | D16: Reporting Assistance Count | E16: Reporting Assistance Percent | G16: Gender Reporting | H16: Total Count | I16: Total Percent | J16: Reporting Assistance Count | K16: Reporting Assistance Percent
A17: Rent my home | B17: =COUNTIFS('Master Data'!$C$2:$C$961,"Yes",'Master Data'!$I$2:$I$961,A17) -> 446 | C17: =B17/COUNTIF('Master Data'!$C$2:$C$961,"Yes") -> 0.47295864 | D17: =COUNTIFS('Master Data'!$C$2:$C$961,"Yes",'Master Data'!$K$2:$K$961,0,'Master Data'!$I$2:$I$961,A17) -> 340 | E17: =D17/COUNTIF('Master Data'!$C$2:$C$961,"Yes") -> 0.36055143 | G17: Female | H17: =COUNTIFS('Master Data'!$C$2:$C$961,"Yes",'Master Data'!$AK$2:$AK$961,G17) -> 654 | I17: =H17/COUNTIF('Master Data'!$C$2:$C$961,"Yes") -> 0.69353128 | J17: =COUNTIFS('Master Data'!$C$2:$C$961,"Yes",'Master Data'!$K$2:$K$961,0,'Master Data'!$AK$2:$AK$961,G17) -> 390 | K17: =J17/COUNTIF('Master Data'!$C$2:$C$961,"Yes") -> 0.4135737
A18: Own my home | B18: =COUNTIFS('Master Data'!$C$2:$C$961,"Yes",'Master Data'!$I$2:$I$961,A18) -> 324 | C18: =B18/COUNTIF('Master Data'!$C$2:$C$961,"Yes") -> 0.34358431 | D18: =COUNTIFS('Master Data'!$C$2:$C$961,"Yes",'Master Data'!$K$2:$K$961,0,'Master Data'!$I$2:$I$961,A18) -> 110 | E18: =D18/COUNTIF('Master Data'!$C$2:$C$961,"Yes") -> 0.11664899 | G18: Male | H18: =COUNTIFS('Master Data'!$C$2:$C$961,"Yes",'Master Data'!$AK$2:$AK$961,G18) -> 238 | I18: =H18/COUNTIF('Master Data'!$C$2:$C$961,"Yes") -> 0.252386 | J18: =COUNTIFS('Master Data'!$C$2:$C$961,"Yes",'Master Data'!$K$2:$K$961,0,'Master Data'!$AK$2:$AK$961,G18) -> 163 | K18: =J18/COUNTIF('Master Data'!$C$2:$C$961,"Yes") -> 0.1728526
A19: Staying with friends/family temporarily | B19: =COUNTIFS('Master Data'!$C$2:$C$961,"Yes",'Master Data'!$I$2:$I$961,A19) -> 67 | C19: =B19/COUNTIF('Master Data'!$C$2:$C$961,"Yes") -> 0.071049841 | D19: =COUNTIFS('Master Data'!$C$2:$C$961,"Yes",'Master Data'!$K$2:$K$961,0,'Master Data'!$I$2:$I$961,A19) -> 45 | E19: =D19/COUNTIF('Master Data'!$C$2:$C$961,"Yes") -> 0.047720042 | G19: Non-binary | H19: =COUNTIFS('Master Data'!$C$2:$C$961,"Yes",'Master Data'!$AK$2:$AK$961,G19) -> 15 | I19: =H19/COUNTIF('Master Data'!$C$2:$C$961,"Yes") -> 0.015906681 | J19: =COUNTIFS('Master Data'!$C$2:$C$961,"Yes",'Master Data'!$K$2:$K$961,0,'Master Data'!$AK$2:$AK$961,G19) -> 8 | K19: =J19/COUNTIF('Master Data'!$C$2:$C$961,"Yes") -> 0.0084835631
A20: Living in a shelter | B20: =COUNTIFS('Master Data'!$C$2:$C$961,"Yes",'Master Data'!$I$2:$I$961,A20) -> 29 | C20: =B20/COUNTIF('Master Data'!$C$2:$C$961,"Yes") -> 0.030752916 | D20: =COUNTIFS('Master Data'!$C$2:$C$961,"Yes",'Master Data'!$K$2:$K$961,0,'Master Data'!$I$2:$I$961,A20) -> 28 | E20: =D20/COUNTIF('Master Data'!$C$2:$C$961,"Yes") -> 0.029692471 | G20: Transgender | H20: =COUNTIFS('Master Data'!$C$2:$C$961,"Yes",'Master Data'!$AK$2:$AK$961,G20) -> 4 | I20: =H20/COUNTIF('Master Data'!$C$2:$C$961,"Yes") -> 0.0042417815 | J20: =COUNTIFS('Master Data'!$C$2:$C$961,"Yes",'Master Data'!$K$2:$K$961,0,'Master Data'!$AK$2:$AK$961,G20) -> 1 | K20: =J20/COUNTIF('Master Data'!$C$2:$C$961,"Yes") -> 0.0010604454
A21: Currently unhoused | B21: =COUNTIFS('Master Data'!$C$2:$C$961,"Yes",'Master Data'!$I$2:$I$961,A21) -> 13 | C21: =B21/COUNTIF('Master Data'!$C$2:$C$961,"Yes") -> 0.01378579 | D21: =COUNTIFS('Master Data'!$C$2:$C$961,"Yes",'Master Data'!$K$2:$K$961,0,'Master Data'!$I$2:$I$961,A21) -> 13 | E21: =D21/COUNTIF('Master Data'!$C$2:$C$961,"Yes") -> 0.01378579 | G21: Prefer not to say | H21: =COUNTIFS('Master Data'!$C$2:$C$961,"Yes",'Master Data'!$AK$2:$AK$961,G21) -> 32 | I21: =H21/COUNTIF('Master Data'!$C$2:$C$961,"Yes") -> 0.033934252 | J21: =COUNTIFS('Master Data'!$C$2:$C$961,"Yes",'Master Data'!$K$2:$K$961,0,'Master Data'!$AK$2:$AK$961,G21) -> 30 | K21: =J21/COUNTIF('Master Data'!$C$2:$C$961,"Yes") -> 0.031813362
A22: Other / write-in | B22: =COUNTIFS('Master Data'!$C$2:$C$961,"Yes",'Master Data'!$I$2:$I$961,"<>")-SUM(B17:B21) -> 64 | C22: =B22/COUNTIF('Master Data'!$C$2:$C$961,"Yes") -> 0.067868505 | D22: =COUNTIFS('Master Data'!$C$2:$C$961,"Yes",'Master Data'!$K$2:$K$961,0,'Master Data'!$I$2:$I$961,"<>")-SUM(D17:D21) -> 56 | E22: =D22/COUNTIF('Master Data'!$C$2:$C$961,"Yes") -> 0.059384942

Sheet 3 Geography
A1: SEATS Geographic Distribution
A2: Neighborhood and ZIP code of eligible respondents; counts reflect participation, not population size.
A4: Neighborhood | B4: Total Count | C4: Total Percent | D4: Reporting Assistance Count | E4: Reporting Assistance Percent | G4: ZIP Code | H4: Total Count | I4: Total Percent | J4: Reporting Assistance Count | K4: Reporting Assistance Percent
A5: Northside | B5: =COUNTIFS('Master Data'!$C$2:$C$961,"Yes",'Master Data'!$AJ$2:$AJ$961,A5) -> 140 | C5: =B5/COUNTIF('Master Data'!$C$2:$C$961,"Yes") -> 0.14846235 | D5: =COUNTIFS('Master Data'!$C$2:$C$961,"Yes",'Master Data'!$K$2:$K$961,0,'Master Data'!$AJ$2:$AJ$961,A5) -> 88 | E5: =D5/COUNTIF('Master Data'!$C$2:$C$961,"Yes") -> 0.093319194 | G5: 12308 | H5: =COUNTIFS('Master Data'!$C$2:$C$961,"Yes",'Master Data'!$H$2:$H$961,--G5) -> 140 | I5: =H5/COUNTIF('Master Data'!$C$2:$C$961,"Yes") -> 0.14846235 | J5: =COUNTIFS('Master Data'!$C$2:$C$961,"Yes",'Master Data'!$K$2:$K$961,0,'Master Data'!$H$2:$H$961,--G5) -> 88 | K5: =J5/COUNTIF('Master Data'!$C$2:$C$961,"Yes") -> 0.093319194
A6: Downtown/Stockade | B6: =COUNTIFS('Master Data'!$C$2:$C$961,"Yes",'Master Data'!$AJ$2:$AJ$961,A6) -> 138 | C6: =B6/COUNTIF('Master Data'!$C$2:$C$961,"Yes") -> 0.14634146 | D6: =COUNTIFS('Master Data'!$C$2:$C$961,"Yes",'Master Data'!$K$2:$K$961,0,'Master Data'!$AJ$2:$AJ$961,A6) -> 96 | E6: =D6/COUNTIF('Master Data'!$C$2:$C$961,"Yes") -> 0.10180276 | G6: 12305 | H6: =COUNTIFS('Master Data'!$C$2:$C$961,"Yes",'Master Data'!$H$2:$H$961,--G6) -> 133 | I6: =H6/COUNTIF('Master Data'!$C$2:$C$961,"Yes") -> 0.14103924 | J6: =COUNTIFS('Master Data'!$C$2:$C$961,"Yes",'Master Data'!$K$2:$K$961,0,'Master Data'!$H$2:$H$961,--G6) -> 91 | K6: =J6/COUNTIF('Master Data'!$C$2:$C$961,"Yes") -> 0.09650053
A7: Hamilton Hill/Vale | B7: =COUNTIFS('Master Data'!$C$2:$C$961,"Yes",'Master Data'!$AJ$2:$AJ$961,A7) -> 133 | C7: =B7/COUNTIF('Master Data'!$C$2:$C$961,"Yes") -> 0.14103924 | D7: =COUNTIFS('Master Data'!$C$2:$C$961,"Yes",'Master Data'!$K$2:$K$961,0,'Master Data'!$AJ$2:$AJ$961,A7) -> 122 | E7: =D7/COUNTIF('Master Data'!$C$2:$C$961,"Yes") -> 0.12937434 | G7: 12307 | H7: =COUNTIFS('Master Data'!$C$2:$C$961,"Yes",'Master Data'!$H$2:$H$961,--G7) -> 133 | I7: =H7/COUNTIF('Master Data'!$C$2:$C$961,"Yes") -> 0.14103924 | J7: =COUNTIFS('Master Data'!$C$2:$C$961,"Yes",'Master Data'!$K$2:$K$961,0,'Master Data'!$H$2:$H$961,--G7) -> 122 | K7: =J7/COUNTIF('Master Data'!$C$2:$C$961,"Yes") -> 0.12937434
A8: Mont Pleasant | B8: =COUNTIFS('Master Data'!$C$2:$C$961,"Yes",'Master Data'!$AJ$2:$AJ$961,A8) -> 127 | C8: =B8/COUNTIF('Master Data'!$C$2:$C$961,"Yes") -> 0.13467656 | D8: =COUNTIFS('Master Data'!$C$2:$C$961,"Yes",'Master Data'!$K$2:$K$961,0,'Master Data'!$AJ$2:$AJ$961,A8) -> 98 | E8: =D8/COUNTIF('Master Data'!$C$2:$C$961,"Yes") -> 0.10392365 | G8: 12303 | H8: =COUNTIFS('Master Data'!$C$2:$C$961,"Yes",'Master Data'!$H$2:$H$961,--G8) -> 127 | I8: =H8/COUNTIF('Master Data'!$C$2:$C$961,"Yes") -> 0.13467656 | J8: =COUNTIFS('Master Data'!$C$2:$C$961,"Yes",'Master Data'!$K$2:$K$961,0,'Master Data'!$H$2:$H$961,--G8) -> 98 | K8: =J8/COUNTIF('Master Data'!$C$2:$C$961,"Yes") -> 0.10392365
A9: Niskayuna | B9: =COUNTIFS('Master Data'!$C$2:$C$961,"Yes",'Master Data'!$AJ$2:$AJ$961,A9) -> 127 | C9: =B9/COUNTIF('Master Data'!$C$2:$C$961,"Yes") -> 0.13467656 | D9: =COUNTIFS('Master Data'!$C$2:$C$961,"Yes",'Master Data'!$K$2:$K$961,0,'Master Data'!$AJ$2:$AJ$961,A9) -> 23 | E9: =D9/COUNTIF('Master Data'!$C$2:$C$961,"Yes") -> 0.024390244 | G9: 12309 | H9: =COUNTIFS('Master Data'!$C$2:$C$961,"Yes",'Master Data'!$H$2:$H$961,--G9) -> 126 | I9: =H9/COUNTIF('Master Data'!$C$2:$C$961,"Yes") -> 0.13361612 | J9: =COUNTIFS('Master Data'!$C$2:$C$961,"Yes",'Master Data'!$K$2:$K$961,0,'Master Data'!$H$2:$H$961,--G9) -> 22 | K9: =J9/COUNTIF('Master Data'!$C$2:$C$961,"Yes") -> 0.023329799
A10: Woodlawn | B10: =COUNTIFS('Master Data'!$C$2:$C$961,"Yes",'Master Data'!$AJ$2:$AJ$961,A10) -> 96 | C10: =B10/COUNTIF('Master Data'!$C$2:$C$961,"Yes") -> 0.10180276 | D10: =COUNTIFS('Master Data'!$C$2:$C$961,"Yes",'Master Data'!$K$2:$K$961,0,'Master Data'!$AJ$2:$AJ$961,A10) -> 64 | E10: =D10/COUNTIF('Master Data'!$C$2:$C$961,"Yes") -> 0.067868505 | G10: 12304 | H10: =COUNTIFS('Master Data'!$C$2:$C$961,"Yes",'Master Data'!$H$2:$H$961,--G10) -> 96 | I10: =H10/COUNTIF('Master Data'!$C$2:$C$961,"Yes") -> 0.10180276 | J10: =COUNTIFS('Master Data'!$C$2:$C$961,"Yes",'Master Data'!$K$2:$K$961,0,'Master Data'!$H$2:$H$961,--G10) -> 64 | K10: =J10/COUNTIF('Master Data'!$C$2:$C$961,"Yes") -> 0.067868505
A11: Scotia/Glenville | B11: =COUNTIFS('Master Data'!$C$2:$C$961,"Yes",'Master Data'!$AJ$2:$AJ$961,A11) -> 86 | C11: =B11/COUNTIF('Master Data'!$C$2:$C$961,"Yes") -> 0.091198303 | D11: =COUNTIFS('Master Data'!$C$2:$C$961,"Yes",'Master Data'!$K$2:$K$961,0,'Master Data'!$AJ$2:$AJ$961,A11) -> 51 | E11: =D11/COUNTIF('Master Data'!$C$2:$C$961,"Yes") -> 0.054082715 | G11: 12302 | H11: =COUNTIFS('Master Data'!$C$2:$C$961,"Yes",'Master Data'!$H$2:$H$961,--G11) -> 80 | I11: =H11/COUNTIF('Master Data'!$C$2:$C$961,"Yes") -> 0.084835631 | J11: =COUNTIFS('Master Data'!$C$2:$C$961,"Yes",'Master Data'!$K$2:$K$961,0,'Master Data'!$H$2:$H$961,--G11) -> 50 | K11: =J11/COUNTIF('Master Data'!$C$2:$C$961,"Yes") -> 0.053022269
A12: Rotterdam/Bellevue | B12: =COUNTIFS('Master Data'!$C$2:$C$961,"Yes",'Master Data'!$AJ$2:$AJ$961,A12) -> 78 | C12: =B12/COUNTIF('Master Data'!$C$2:$C$961,"Yes") -> 0.08271474 | D12: =COUNTIFS('Master Data'!$C$2:$C$961,"Yes",'Master Data'!$K$2:$K$961,0,'Master Data'!$AJ$2:$AJ$961,A12) -> 40 | E12: =D12/COUNTIF('Master Data'!$C$2:$C$961,"Yes") -> 0.042417815 | G12: 12306 | H12: =COUNTIFS('Master Data'!$C$2:$C$961,"Yes",'Master Data'!$H$2:$H$961,--G12) -> 78 | I12: =H12/COUNTIF('Master Data'!$C$2:$C$961,"Yes") -> 0.08271474 | J12: =COUNTIFS('Master Data'!$C$2:$C$961,"Yes",'Master Data'!$K$2:$K$961,0,'Master Data'!$H$2:$H$961,--G12) -> 40 | K12: =J12/COUNTIF('Master Data'!$C$2:$C$961,"Yes") -> 0.042417815
A13: Delanson | B13: =COUNTIFS('Master Data'!$C$2:$C$961,"Yes",'Master Data'!$AJ$2:$AJ$961,A13) -> 7 | C13: =B13/COUNTIF('Master Data'!$C$2:$C$961,"Yes") -> 0.0074231177 | D13: =COUNTIFS('Master Data'!$C$2:$C$961,"Yes",'Master Data'!$K$2:$K$961,0,'Master Data'!$AJ$2:$AJ$961,A13) -> 2 | E13: =D13/COUNTIF('Master Data'!$C$2:$C$961,"Yes") -> 0.0021208908 | G13: 12053 | H13: =COUNTIFS('Master Data'!$C$2:$C$961,"Yes",'Master Data'!$H$2:$H$961,--G13) -> 6 | I13: =H13/COUNTIF('Master Data'!$C$2:$C$961,"Yes") -> 0.0063626723 | J13: =COUNTIFS('Master Data'!$C$2:$C$961,"Yes",'Master Data'!$K$2:$K$961,0,'Master Data'!$H$2:$H$961,--G13) -> 1 | K13: =J13/COUNTIF('Master Data'!$C$2:$C$961,"Yes") -> 0.0010604454
A14: Duanesburg/Princetown | B14: =COUNTIFS('Master Data'!$C$2:$C$961,"Yes",'Master Data'!$AJ$2:$AJ$961,A14) -> 6 | C14: =B14/COUNTIF('Master Data'!$C$2:$C$961,"Yes") -> 0.0063626723 | D14: =COUNTIFS('Master Data'!$C$2:$C$961,"Yes",'Master Data'!$K$2:$K$961,0,'Master Data'!$AJ$2:$AJ$961,A14) -> 5 | E14: =D14/COUNTIF('Master Data'!$C$2:$C$961,"Yes") -> 0.0053022269 | G14: 12027 | H14: =COUNTIFS('Master Data'!$C$2:$C$961,"Yes",'Master Data'!$H$2:$H$961,--G14) -> 4 | I14: =H14/COUNTIF('Master Data'!$C$2:$C$961,"Yes") -> 0.0042417815 | J14: =COUNTIFS('Master Data'!$C$2:$C$961,"Yes",'Master Data'!$K$2:$K$961,0,'Master Data'!$H$2:$H$961,--G14) -> 0 | K14: =J14/COUNTIF('Master Data'!$C$2:$C$961,"Yes") -> 0
A15: Pattersonville | B15: =COUNTIFS('Master Data'!$C$2:$C$961,"Yes",'Master Data'!$AJ$2:$AJ$961,A15) -> 2 | C15: =B15/COUNTIF('Master Data'!$C$2:$C$961,"Yes") -> 0.0021208908 | D15: =COUNTIFS('Master Data'!$C$2:$C$961,"Yes",'Master Data'!$K$2:$K$961,0,'Master Data'!$AJ$2:$AJ$961,A15) -> 2 | E15: =D15/COUNTIF('Master Data'!$C$2:$C$961,"Yes") -> 0.0021208908 | G15: 12056 | H15: =COUNTIFS('Master Data'!$C$2:$C$961,"Yes",'Master Data'!$H$2:$H$961,--G15) -> 4 | I15: =H15/COUNTIF('Master Data'!$C$2:$C$961,"Yes") -> 0.0042417815 | J15: =COUNTIFS('Master Data'!$C$2:$C$961,"Yes",'Master Data'!$K$2:$K$961,0,'Master Data'!$H$2:$H$961,--G15) -> 3 | K15: =J15/COUNTIF('Master Data'!$C$2:$C$961,"Yes") -> 0.0031813362
A16: (Blank) | B16: =COUNTIFS('Master Data'!$C$2:$C$961,"Yes",'Master Data'!$AJ$2:$AJ$961,"") -> 3 | C16: =B16/COUNTIF('Master Data'!$C$2:$C$961,"Yes") -> 0.0031813362 | D16: =COUNTIFS('Master Data'!$C$2:$C$961,"Yes",'Master Data'!$K$2:$K$961,0,'Master Data'!$AJ$2:$AJ$961,"") -> 1 | E16: =D16/COUNTIF('Master Data'!$C$2:$C$961,"Yes") -> 0.0010604454 | G16: 12008 | H16: =COUNTIFS('Master Data'!$C$2:$C$961,"Yes",'Master Data'!$H$2:$H$961,--G16) -> 2 | I16: =H16/COUNTIF('Master Data'!$C$2:$C$961,"Yes") -> 0.0021208908 | J16: =COUNTIFS('Master Data'!$C$2:$C$961,"Yes",'Master Data'!$K$2:$K$961,0,'Master Data'!$H$2:$H$961,--G16) -> 1 | K16: =J16/COUNTIF('Master Data'!$C$2:$C$961,"Yes") -> 0.0010604454
G17: 12019 | H17: =COUNTIFS('Master Data'!$C$2:$C$961,"Yes",'Master Data'!$H$2:$H$961,--G17) -> 2 | I17: =H17/COUNTIF('Master Data'!$C$2:$C$961,"Yes") -> 0.0021208908 | J17: =COUNTIFS('Master Data'!$C$2:$C$961,"Yes",'Master Data'!$K$2:$K$961,0,'Master Data'!$H$2:$H$961,--G17) -> 1 | K17: =J17/COUNTIF('Master Data'!$C$2:$C$961,"Yes") -> 0.0010604454
G18: 12066 | H18: =COUNTIFS('Master Data'!$C$2:$C$961,"Yes",'Master Data'!$H$2:$H$961,--G18) -> 2 | I18: =H18/COUNTIF('Master Data'!$C$2:$C$961,"Yes") -> 0.0021208908 | J18: =COUNTIFS('Master Data'!$C$2:$C$961,"Yes",'Master Data'!$K$2:$K$961,0,'Master Data'!$H$2:$H$961,--G18) -> 2 | K18: =J18/COUNTIF('Master Data'!$C$2:$C$961,"Yes") -> 0.0021208908
G19: 12137 | H19: =COUNTIFS('Master Data'!$C$2:$C$961,"Yes",'Master Data'!$H$2:$H$961,--G19) -> 2 | I19: =H19/COUNTIF('Master Data'!$C$2:$C$961,"Yes") -> 0.0021208908 | J19: =COUNTIFS('Master Data'!$C$2:$C$961,"Yes",'Master Data'!$K$2:$K$961,0,'Master Data'!$H$2:$H$961,--G19) -> 2 | K19: =J19/COUNTIF('Master Data'!$C$2:$C$961,"Yes") -> 0.0021208908
G20: 12141 | H20: =COUNTIFS('Master Data'!$C$2:$C$961,"Yes",'Master Data'!$H$2:$H$961,--G20) -> 2 | I20: =H20/COUNTIF('Master Data'!$C$2:$C$961,"Yes") -> 0.0021208908 | J20: =COUNTIFS('Master Data'!$C$2:$C$961,"Yes",'Master Data'!$K$2:$K$961,0,'Master Data'!$H$2:$H$961,--G20) -> 1 | K20: =J20/COUNTIF('Master Data'!$C$2:$C$961,"Yes") -> 0.0010604454
G21: 12301 | H21: =COUNTIFS('Master Data'!$C$2:$C$961,"Yes",'Master Data'!$H$2:$H$961,--G21) -> 2 | I21: =H21/COUNTIF('Master Data'!$C$2:$C$961,"Yes") -> 0.0021208908 | J21: =COUNTIFS('Master Data'!$C$2:$C$961,"Yes",'Master Data'!$K$2:$K$961,0,'Master Data'!$H$2:$H$961,--G21) -> 2 | K21: =J21/COUNTIF('Master Data'!$C$2:$C$961,"Yes") -> 0.0021208908
G22: 12345 | H22: =COUNTIFS('Master Data'!$C$2:$C$961,"Yes",'Master Data'!$H$2:$H$961,--G22) -> 2 | I22: =H22/COUNTIF('Master Data'!$C$2:$C$961,"Yes") -> 0.0021208908 | J22: =COUNTIFS('Master Data'!$C$2:$C$961,"Yes",'Master Data'!$K$2:$K$961,0,'Master Data'!$H$2:$H$961,--G22) -> 2 | K22: =J22/COUNTIF('Master Data'!$C$2:$C$961,"Yes") -> 0.0021208908
G23: 12148 | H23: =COUNTIFS('Master Data'!$C$2:$C$961,"Yes",'Master Data'!$H$2:$H$961,--G23) -> 1 | I23: =H23/COUNTIF('Master Data'!$C$2:$C$961,"Yes") -> 0.0010604454 | J23: =COUNTIFS('Master Data'!$C$2:$C$961,"Yes",'Master Data'!$K$2:$K$961,0,'Master Data'!$H$2:$H$961,--G23) -> 1 | K23: =J23/COUNTIF('Master Data'!$C$2:$C$961,"Yes") -> 0.0010604454
G24: (Blank) | H24: =COUNTIFS('Master Data'!$C$2:$C$961,"Yes",'Master Data'!$H$2:$H$961,"") -> 1 | I24: =H24/COUNTIF('Master Data'!$C$2:$C$961,"Yes") -> 0.0010604454 | J24: =COUNTIFS('Master Data'!$C$2:$C$961,"Yes",'Master Data'!$K$2:$K$961,0,'Master Data'!$H$2:$H$961,"") -> 1 | K24: =J24/COUNTIF('Master Data'!$C$2:$C$961,"Yes") -> 0.0010604454

Sheet 4 Shopping Sources
A1: SEATS Food Shopping Sources
A2: How often eligible respondents use each type of food retailer.
A4: Source | B4: Total Often Count | C4: Total Sometimes Count | D4: Total Never Count | E4: Total Often Percent | F4: Total Sometimes Percent | G4: Total Never Percent | H4: Total Uses at Least Sometimes Percent | I4: Reporting Assistance Often Count | J4: Reporting Assistance Often Percent | K4: Reporting Assistance Sometimes Count | L4: Reporting Assistance Sometimes Percent | M4: Reporting Assistance Never Count | N4: Reporting Assistance Never Percent | O4: Reporting Assistance Uses at Least Sometimes Count | P4: Reporting Assistance Uses at Least Sometimes Percent
A5: Supermarket | B5: =COUNTIFS('Master Data'!$C$2:$C$961,"Yes",'Master Data'!$L$2:$L$961,"Often") -> 602 | C5: =COUNTIFS('Master Data'!$C$2:$C$961,"Yes",'Master Data'!$L$2:$L$961,"Sometimes") -> 305 | D5: =COUNTIFS('Master Data'!$C$2:$C$961,"Yes",'Master Data'!$L$2:$L$961,"Never") -> 36 | E5: =B5/COUNTIF('Master Data'!$C$2:$C$961,"Yes") -> 0.63838812 | F5: =C5/COUNTIF('Master Data'!$C$2:$C$961,"Yes") -> 0.32343584 | G5: =D5/COUNTIF('Master Data'!$C$2:$C$961,"Yes") -> 0.038176034 | H5: =(B5+C5)/COUNTIF('Master Data'!$C$2:$C$961,"Yes") -> 0.96182397 | I5: =COUNTIFS('Master Data'!$C$2:$C$961,"Yes",'Master Data'!$K$2:$K$961,0,'Master Data'!$L$2:$L$961,"Often") -> 331 | J5: =I5/COUNTIF('Master Data'!$C$2:$C$961,"Yes") -> 0.35100742 | K5: =COUNTIFS('Master Data'!$C$2:$C$961,"Yes",'Master Data'!$K$2:$K$961,0,'Master Data'!$L$2:$L$961,"Sometimes") -> 234 | L5: =K5/COUNTIF('Master Data'!$C$2:$C$961,"Yes") -> 0.24814422 | M5: =COUNTIFS('Master Data'!$C$2:$C$961,"Yes",'Master Data'!$K$2:$K$961,0,'Master Data'!$L$2:$L$961,"Never") -> 27 | N5: =M5/COUNTIF('Master Data'!$C$2:$C$961,"Yes") -> 0.028632025 | O5: =I5+K5 -> 565 | P5: =O5/COUNTIF('Master Data'!$C$2:$C$961,"Yes") -> 0.59915164
A6: Box stores | B6: =COUNTIFS('Master Data'!$C$2:$C$961,"Yes",'Master Data'!$M$2:$M$961,"Often") -> 360 | C6: =COUNTIFS('Master Data'!$C$2:$C$961,"Yes",'Master Data'!$M$2:$M$961,"Sometimes") -> 438 | D6: =COUNTIFS('Master Data'!$C$2:$C$961,"Yes",'Master Data'!$M$2:$M$961,"Never") -> 145 | E6: =B6/COUNTIF('Master Data'!$C$2:$C$961,"Yes") -> 0.38176034 | F6: =C6/COUNTIF('Master Data'!$C$2:$C$961,"Yes") -> 0.46447508 | G6: =D6/COUNTIF('Master Data'!$C$2:$C$961,"Yes") -> 0.15376458 | H6: =(B6+C6)/COUNTIF('Master Data'!$C$2:$C$961,"Yes") -> 0.84623542 | I6: =COUNTIFS('Master Data'!$C$2:$C$961,"Yes",'Master Data'!$K$2:$K$961,0,'Master Data'!$M$2:$M$961,"Often") -> 244 | J6: =I6/COUNTIF('Master Data'!$C$2:$C$961,"Yes") -> 0.25874867 | K6: =COUNTIFS('Master Data'!$C$2:$C$961,"Yes",'Master Data'!$K$2:$K$961,0,'Master Data'!$M$2:$M$961,"Sometimes") -> 263 | L6: =K6/COUNTIF('Master Data'!$C$2:$C$961,"Yes") -> 0.27889714 | M6: =COUNTIFS('Master Data'!$C$2:$C$961,"Yes",'Master Data'!$K$2:$K$961,0,'Master Data'!$M$2:$M$961,"Never") -> 85 | N6: =M6/COUNTIF('Master Data'!$C$2:$C$961,"Yes") -> 0.090137858 | O6: =I6+K6 -> 507 | P6: =O6/COUNTIF('Master Data'!$C$2:$C$961,"Yes") -> 0.53764581
A7: Wholesale club | B7: =COUNTIFS('Master Data'!$C$2:$C$961,"Yes",'Master Data'!$N$2:$N$961,"Often") -> 99 | C7: =COUNTIFS('Master Data'!$C$2:$C$961,"Yes",'Master Data'!$N$2:$N$961,"Sometimes") -> 289 | D7: =COUNTIFS('Master Data'!$C$2:$C$961,"Yes",'Master Data'!$N$2:$N$961,"Never") -> 555 | E7: =B7/COUNTIF('Master Data'!$C$2:$C$961,"Yes") -> 0.10498409 | F7: =C7/COUNTIF('Master Data'!$C$2:$C$961,"Yes") -> 0.30646872 | G7: =D7/COUNTIF('Master Data'!$C$2:$C$961,"Yes") -> 0.58854719 | H7: =(B7+C7)/COUNTIF('Master Data'!$C$2:$C$961,"Yes") -> 0.41145281 | I7: =COUNTIFS('Master Data'!$C$2:$C$961,"Yes",'Master Data'!$K$2:$K$961,0,'Master Data'!$N$2:$N$961,"Often") -> 58 | J7: =I7/COUNTIF('Master Data'!$C$2:$C$961,"Yes") -> 0.061505832 | K7: =COUNTIFS('Master Data'!$C$2:$C$961,"Yes",'Master Data'!$K$2:$K$961,0,'Master Data'!$N$2:$N$961,"Sometimes") -> 173 | L7: =K7/COUNTIF('Master Data'!$C$2:$C$961,"Yes") -> 0.18345705 | M7: =COUNTIFS('Master Data'!$C$2:$C$961,"Yes",'Master Data'!$K$2:$K$961,0,'Master Data'!$N$2:$N$961,"Never") -> 361 | N7: =M7/COUNTIF('Master Data'!$C$2:$C$961,"Yes") -> 0.38282078 | O7: =I7+K7 -> 231 | P7: =O7/COUNTIF('Master Data'!$C$2:$C$961,"Yes") -> 0.24496288
A8: Food co-op | B8: =COUNTIFS('Master Data'!$C$2:$C$961,"Yes",'Master Data'!$O$2:$O$961,"Often") -> 59 | C8: =COUNTIFS('Master Data'!$C$2:$C$961,"Yes",'Master Data'!$O$2:$O$961,"Sometimes") -> 217 | D8: =COUNTIFS('Master Data'!$C$2:$C$961,"Yes",'Master Data'!$O$2:$O$961,"Never") -> 667 | E8: =B8/COUNTIF('Master Data'!$C$2:$C$961,"Yes") -> 0.062566278 | F8: =C8/COUNTIF('Master Data'!$C$2:$C$961,"Yes") -> 0.23011665 | G8: =D8/COUNTIF('Master Data'!$C$2:$C$961,"Yes") -> 0.70731707 | H8: =(B8+C8)/COUNTIF('Master Data'!$C$2:$C$961,"Yes") -> 0.29268293 | I8: =COUNTIFS('Master Data'!$C$2:$C$961,"Yes",'Master Data'!$K$2:$K$961,0,'Master Data'!$O$2:$O$961,"Often") -> 22 | J8: =I8/COUNTIF('Master Data'!$C$2:$C$961,"Yes") -> 0.023329799 | K8: =COUNTIFS('Master Data'!$C$2:$C$961,"Yes",'Master Data'!$K$2:$K$961,0,'Master Data'!$O$2:$O$961,"Sometimes") -> 81 | L8: =K8/COUNTIF('Master Data'!$C$2:$C$961,"Yes") -> 0.085896076 | M8: =COUNTIFS('Master Data'!$C$2:$C$961,"Yes",'Master Data'!$K$2:$K$961,0,'Master Data'!$O$2:$O$961,"Never") -> 489 | N8: =M8/COUNTIF('Master Data'!$C$2:$C$961,"Yes") -> 0.51855779 | O8: =I8+K8 -> 103 | P8: =O8/COUNTIF('Master Data'!$C$2:$C$961,"Yes") -> 0.10922587
A9: Farmers market | B9: =COUNTIFS('Master Data'!$C$2:$C$961,"Yes",'Master Data'!$P$2:$P$961,"Often") -> 112 | C9: =COUNTIFS('Master Data'!$C$2:$C$961,"Yes",'Master Data'!$P$2:$P$961,"Sometimes") -> 465 | D9: =COUNTIFS('Master Data'!$C$2:$C$961,"Yes",'Master Data'!$P$2:$P$961,"Never") -> 366 | E9: =B9/COUNTIF('Master Data'!$C$2:$C$961,"Yes") -> 0.11876988 | F9: =C9/COUNTIF('Master Data'!$C$2:$C$961,"Yes") -> 0.4931071 | G9: =D9/COUNTIF('Master Data'!$C$2:$C$961,"Yes") -> 0.38812301 | H9: =(B9+C9)/COUNTIF('Master Data'!$C$2:$C$961,"Yes") -> 0.61187699 | I9: =COUNTIFS('Master Data'!$C$2:$C$961,"Yes",'Master Data'!$K$2:$K$961,0,'Master Data'!$P$2:$P$961,"Often") -> 55 | J9: =I9/COUNTIF('Master Data'!$C$2:$C$961,"Yes") -> 0.058324496 | K9: =COUNTIFS('Master Data'!$C$2:$C$961,"Yes",'Master Data'!$K$2:$K$961,0,'Master Data'!$P$2:$P$961,"Sometimes") -> 258 | L9: =K9/COUNTIF('Master Data'!$C$2:$C$961,"Yes") -> 0.27359491 | M9: =COUNTIFS('Master Data'!$C$2:$C$961,"Yes",'Master Data'!$K$2:$K$961,0,'Master Data'!$P$2:$P$961,"Never") -> 279 | N9: =M9/COUNTIF('Master Data'!$C$2:$C$961,"Yes") -> 0.29586426 | O9: =I9+K9 -> 313 | P9: =O9/COUNTIF('Master Data'!$C$2:$C$961,"Yes") -> 0.33191941
A10: Specialty market | B10: =COUNTIFS('Master Data'!$C$2:$C$961,"Yes",'Master Data'!$Q$2:$Q$961,"Often") -> 48 | C10: =COUNTIFS('Master Data'!$C$2:$C$961,"Yes",'Master Data'!$Q$2:$Q$961,"Sometimes") -> 229 | D10: =COUNTIFS('Master Data'!$C$2:$C$961,"Yes",'Master Data'!$Q$2:$Q$961,"Never") -> 666 | E10: =B10/COUNTIF('Master Data'!$C$2:$C$961,"Yes") -> 0.050901379 | F10: =C10/COUNTIF('Master Data'!$C$2:$C$961,"Yes") -> 0.24284199 | G10: =D10/COUNTIF('Master Data'!$C$2:$C$961,"Yes") -> 0.70625663 | H10: =(B10+C10)/COUNTIF('Master Data'!$C$2:$C$961,"Yes") -> 0.29374337 | I10: =COUNTIFS('Master Data'!$C$2:$C$961,"Yes",'Master Data'!$K$2:$K$961,0,'Master Data'!$Q$2:$Q$961,"Often") -> 24 | J10: =I10/COUNTIF('Master Data'!$C$2:$C$961,"Yes") -> 0.025450689 | K10: =COUNTIFS('Master Data'!$C$2:$C$961,"Yes",'Master Data'!$K$2:$K$961,0,'Master Data'!$Q$2:$Q$961,"Sometimes") -> 111 | L10: =K10/COUNTIF('Master Data'!$C$2:$C$961,"Yes") -> 0.11770944 | M10: =COUNTIFS('Master Data'!$C$2:$C$961,"Yes",'Master Data'!$K$2:$K$961,0,'Master Data'!$Q$2:$Q$961,"Never") -> 457 | N10: =M10/COUNTIF('Master Data'!$C$2:$C$961,"Yes") -> 0.48462354 | O10: =I10+K10 -> 135 | P10: =O10/COUNTIF('Master Data'!$C$2:$C$961,"Yes") -> 0.14316013
A11: Corner store | B11: =COUNTIFS('Master Data'!$C$2:$C$961,"Yes",'Master Data'!$R$2:$R$961,"Often") -> 182 | C11: =COUNTIFS('Master Data'!$C$2:$C$961,"Yes",'Master Data'!$R$2:$R$961,"Sometimes") -> 393 | D11: =COUNTIFS('Master Data'!$C$2:$C$961,"Yes",'Master Data'!$R$2:$R$961,"Never") -> 368 | E11: =B11/COUNTIF('Master Data'!$C$2:$C$961,"Yes") -> 0.19300106 | F11: =C11/COUNTIF('Master Data'!$C$2:$C$961,"Yes") -> 0.41675504 | G11: =D11/COUNTIF('Master Data'!$C$2:$C$961,"Yes") -> 0.3902439 | H11: =(B11+C11)/COUNTIF('Master Data'!$C$2:$C$961,"Yes") -> 0.6097561 | I11: =COUNTIFS('Master Data'!$C$2:$C$961,"Yes",'Master Data'!$K$2:$K$961,0,'Master Data'!$R$2:$R$961,"Often") -> 132 | J11: =I11/COUNTIF('Master Data'!$C$2:$C$961,"Yes") -> 0.13997879 | K11: =COUNTIFS('Master Data'!$C$2:$C$961,"Yes",'Master Data'!$K$2:$K$961,0,'Master Data'!$R$2:$R$961,"Sometimes") -> 247 | L11: =K11/COUNTIF('Master Data'!$C$2:$C$961,"Yes") -> 0.26193001 | M11: =COUNTIFS('Master Data'!$C$2:$C$961,"Yes",'Master Data'!$K$2:$K$961,0,'Master Data'!$R$2:$R$961,"Never") -> 213 | N11: =M11/COUNTIF('Master Data'!$C$2:$C$961,"Yes") -> 0.22587487 | O11: =I11+K11 -> 379 | P11: =O11/COUNTIF('Master Data'!$C$2:$C$961,"Yes") -> 0.4019088
A12: Dollar store | B12: =COUNTIFS('Master Data'!$C$2:$C$961,"Yes",'Master Data'!$S$2:$S$961,"Often") -> 238 | C12: =COUNTIFS('Master Data'!$C$2:$C$961,"Yes",'Master Data'!$S$2:$S$961,"Sometimes") -> 441 | D12: =COUNTIFS('Master Data'!$C$2:$C$961,"Yes",'Master Data'!$S$2:$S$961,"Never") -> 264 | E12: =B12/COUNTIF('Master Data'!$C$2:$C$961,"Yes") -> 0.252386 | F12: =C12/COUNTIF('Master Data'!$C$2:$C$961,"Yes") -> 0.46765642 | G12: =D12/COUNTIF('Master Data'!$C$2:$C$961,"Yes") -> 0.27995758 | H12: =(B12+C12)/COUNTIF('Master Data'!$C$2:$C$961,"Yes") -> 0.72004242 | I12: =COUNTIFS('Master Data'!$C$2:$C$961,"Yes",'Master Data'!$K$2:$K$961,0,'Master Data'!$S$2:$S$961,"Often") -> 182 | J12: =I12/COUNTIF('Master Data'!$C$2:$C$961,"Yes") -> 0.19300106 | K12: =COUNTIFS('Master Data'!$C$2:$C$961,"Yes",'Master Data'!$K$2:$K$961,0,'Master Data'!$S$2:$S$961,"Sometimes") -> 288 | L12: =K12/COUNTIF('Master Data'!$C$2:$C$961,"Yes") -> 0.30540827 | M12: =COUNTIFS('Master Data'!$C$2:$C$961,"Yes",'Master Data'!$K$2:$K$961,0,'Master Data'!$S$2:$S$961,"Never") -> 122 | N12: =M12/COUNTIF('Master Data'!$C$2:$C$961,"Yes") -> 0.12937434 | O12: =I12+K12 -> 470 | P12: =O12/COUNTIF('Master Data'!$C$2:$C$961,"Yes") -> 0.49840933
A13: Drug store | B13: =COUNTIFS('Master Data'!$C$2:$C$961,"Yes",'Master Data'!$T$2:$T$961,"Often") -> 121 | C13: =COUNTIFS('Master Data'!$C$2:$C$961,"Yes",'Master Data'!$T$2:$T$961,"Sometimes") -> 413 | D13: =COUNTIFS('Master Data'!$C$2:$C$961,"Yes",'Master Data'!$T$2:$T$961,"Never") -> 409 | E13: =B13/COUNTIF('Master Data'!$C$2:$C$961,"Yes") -> 0.12831389 | F13: =C13/COUNTIF('Master Data'!$C$2:$C$961,"Yes") -> 0.43796394 | G13: =D13/COUNTIF('Master Data'!$C$2:$C$961,"Yes") -> 0.43372216 | H13: =(B13+C13)/COUNTIF('Master Data'!$C$2:$C$961,"Yes") -> 0.56627784 | I13: =COUNTIFS('Master Data'!$C$2:$C$961,"Yes",'Master Data'!$K$2:$K$961,0,'Master Data'!$T$2:$T$961,"Often") -> 83 | J13: =I13/COUNTIF('Master Data'!$C$2:$C$961,"Yes") -> 0.088016967 | K13: =COUNTIFS('Master Data'!$C$2:$C$961,"Yes",'Master Data'!$K$2:$K$961,0,'Master Data'!$T$2:$T$961,"Sometimes") -> 259 | L13: =K13/COUNTIF('Master Data'!$C$2:$C$961,"Yes") -> 0.27465536 | M13: =COUNTIFS('Master Data'!$C$2:$C$961,"Yes",'Master Data'!$K$2:$K$961,0,'Master Data'!$T$2:$T$961,"Never") -> 250 | N13: =M13/COUNTIF('Master Data'!$C$2:$C$961,"Yes") -> 0.26511135 | O13: =I13+K13 -> 342 | P13: =O13/COUNTIF('Master Data'!$C$2:$C$961,"Yes") -> 0.36267232

Sheet 5 Access & Barriers
A1: SEATS Access & Barriers
A2: Travel distance, transportation difficulty, and reported barriers.
A4: Distance | B4: Total Count | C4: Total Percent | D4: Reporting Assistance Count | E4: Reporting Assistance Percent | G4: Transportation Challenge | H4: Total Count | I4: Total Percent | J4: Reporting Assistance Count | K4: Reporting Assistance Percent
A5: Less than 1 mile | B5: =COUNTIFS('Master Data'!$C$2:$C$961,"Yes",'Master Data'!$U$2:$U$961,A5) -> 109 | C5: =B5/COUNTIF('Master Data'!$C$2:$C$961,"Yes") -> 0.11558855 | D5: =COUNTIFS('Master Data'!$C$2:$C$961,"Yes",'Master Data'!$K$2:$K$961,0,'Master Data'!$U$2:$U$961,A5) -> 68 | E5: =D5/COUNTIF('Master Data'!$C$2:$C$961,"Yes") -> 0.072110286 | G5: Never | H5: =COUNTIFS('Master Data'!$C$2:$C$961,"Yes",'Master Data'!$W$2:$W$961,"*"&G5&"*") -> 354 | I5: =H5/COUNTIF('Master Data'!$C$2:$C$961,"Yes") -> 0.37539767 | J5: =COUNTIFS('Master Data'!$C$2:$C$961,"Yes",'Master Data'!$K$2:$K$961,0,'Master Data'!$W$2:$W$961,"*"&G5&"*") -> 123 | K5: =J5/COUNTIF('Master Data'!$C$2:$C$961,"Yes") -> 0.13043478
A6: 1-3 miles | B6: =COUNTIFS('Master Data'!$C$2:$C$961,"Yes",'Master Data'!$U$2:$U$961,A6) -> 432 | C6: =B6/COUNTIF('Master Data'!$C$2:$C$961,"Yes") -> 0.45811241 | D6: =COUNTIFS('Master Data'!$C$2:$C$961,"Yes",'Master Data'!$K$2:$K$961,0,'Master Data'!$U$2:$U$961,A6) -> 273 | E6: =D6/COUNTIF('Master Data'!$C$2:$C$961,"Yes") -> 0.28950159 | G6: Rarely | H6: =COUNTIFS('Master Data'!$C$2:$C$961,"Yes",'Master Data'!$W$2:$W$961,"*"&G6&"*") -> 183 | I6: =H6/COUNTIF('Master Data'!$C$2:$C$961,"Yes") -> 0.19406151 | J6: =COUNTIFS('Master Data'!$C$2:$C$961,"Yes",'Master Data'!$K$2:$K$961,0,'Master Data'!$W$2:$W$961,"*"&G6&"*") -> 123 | K6: =J6/COUNTIF('Master Data'!$C$2:$C$961,"Yes") -> 0.13043478
A7: 4-6 miles | B7: =COUNTIFS('Master Data'!$C$2:$C$961,"Yes",'Master Data'!$U$2:$U$961,A7) -> 271 | C7: =B7/COUNTIF('Master Data'!$C$2:$C$961,"Yes") -> 0.2873807 | D7: =COUNTIFS('Master Data'!$C$2:$C$961,"Yes",'Master Data'!$K$2:$K$961,0,'Master Data'!$U$2:$U$961,A7) -> 173 | E7: =D7/COUNTIF('Master Data'!$C$2:$C$961,"Yes") -> 0.18345705 | G7: Sometimes | H7: =COUNTIFS('Master Data'!$C$2:$C$961,"Yes",'Master Data'!$W$2:$W$961,"*"&G7&"*") -> 247 | I7: =H7/COUNTIF('Master Data'!$C$2:$C$961,"Yes") -> 0.26193001 | J7: =COUNTIFS('Master Data'!$C$2:$C$961,"Yes",'Master Data'!$K$2:$K$961,0,'Master Data'!$W$2:$W$961,"*"&G7&"*") -> 205 | K7: =J7/COUNTIF('Master Data'!$C$2:$C$961,"Yes") -> 0.2173913
A8: 7-10 miles | B8: =COUNTIFS('Master Data'!$C$2:$C$961,"Yes",'Master Data'!$U$2:$U$961,A8) -> 85 | C8: =B8/COUNTIF('Master Data'!$C$2:$C$961,"Yes") -> 0.090137858 | D8: =COUNTIFS('Master Data'!$C$2:$C$961,"Yes",'Master Data'!$K$2:$K$961,0,'Master Data'!$U$2:$U$961,A8) -> 52 | E8: =D8/COUNTIF('Master Data'!$C$2:$C$961,"Yes") -> 0.05514316 | G8: Often | H8: =COUNTIFS('Master Data'!$C$2:$C$961,"Yes",'Master Data'!$W$2:$W$961,"*"&G8&"*") -> 97 | I8: =H8/COUNTIF('Master Data'!$C$2:$C$961,"Yes") -> 0.1028632 | J8: =COUNTIFS('Master Data'!$C$2:$C$961,"Yes",'Master Data'!$K$2:$K$961,0,'Master Data'!$W$2:$W$961,"*"&G8&"*") -> 82 | K8: =J8/COUNTIF('Master Data'!$C$2:$C$961,"Yes") -> 0.086956522
